BEGIN:VCALENDAR
VERSION:2.0
PRODID:-//St. Matthew&#039;s Episcopal Church - ECPv4.0.4//NONSGML v1.0//EN
CALSCALE:GREGORIAN
METHOD:PUBLISH
X-WR-CALNAME:St. Matthew&#039;s Episcopal Church
X-ORIGINAL-URL:https://www.stmatthewssnellville.org
X-WR-CALDESC:Events for St. Matthew&#039;s Episcopal Church
BEGIN:VEVENT
DTSTART;TZID="America/New_York":20180421T100000
DTEND;TZID="America/New_York":20180421T150000
DTSTAMP:20260424T213218
CREATED:20180411T131613
LAST-MODIFIED:20180411T131613
UID:10443-1524304800-1524322800@www.stmatthewssnellville.org
SUMMARY:1st Annual Family and Ministry Fair
DESCRIPTION:St. Matthew’s Fellowship Ministry invites you to the\n1st Annual St. Matthew’s Family and Ministry Spring Fair.\nA day of fun and fellowship outside while learning about the different ministries in our parish.\n\nAn event for the whole family taking place on\n\nSaturday\, April 21st from 10am to 3pm.\n\nFind exciting ministry information\, enjoy products and services from local vendors\, music\, bouncy houses and much more.\n\nIf you are interested in being a Vendor or volunteer please contact Oscar De Leon at 770-841-5902 or at mailto:odeleon86@hotmail.com
URL:https://www.stmatthewssnellville.org/event/1st-annual-family-and-ministry-fair/
END:VEVENT
END:VCALENDAR