BEGIN:VCALENDAR
VERSION:2.0
PRODID:-//St. Matthew&#039;s Episcopal Church - ECPv4.0.4//NONSGML v1.0//EN
CALSCALE:GREGORIAN
METHOD:PUBLISH
X-WR-CALNAME:St. Matthew&#039;s Episcopal Church
X-ORIGINAL-URL:https://www.stmatthewssnellville.org
X-WR-CALDESC:Events for St. Matthew&#039;s Episcopal Church
BEGIN:VEVENT
DTSTART;TZID="America/New_York":20160403T080000
DTEND;TZID="America/New_York":20160403T120000
DTSTAMP:20260422T005204
CREATED:20160311T204112
LAST-MODIFIED:20160408T193207
UID:5376-1459670400-1459684800@www.stmatthewssnellville.org
SUMMARY:Sunday Worship
DESCRIPTION:Rite II Holy Eucharist 8:00 and 10:30 a.m.**\n9:00 Breakfast (all invited between services)\n\n9:30 Sunday School\, Christian Ed/Adult Forum (depending on class schedule–See Christian Education)\n\n**Nursery provided 6 mos – 4 years during the 10:30 a.m. service.\n\nJunior Worship for ages 5-7 during the first half of 10:30 service on Sundays which include Sunday School/Christian Education.\n\n 
URL:https://www.stmatthewssnellville.org/event/5376/2016-04-03/
CATEGORIES:Worship
END:VEVENT
END:VCALENDAR