BEGIN:VCALENDAR
VERSION:2.0
PRODID:-//St. Matthew&#039;s Episcopal Church - ECPv4.0.4//NONSGML v1.0//EN
CALSCALE:GREGORIAN
METHOD:PUBLISH
X-WR-CALNAME:St. Matthew&#039;s Episcopal Church
X-ORIGINAL-URL:https://www.stmatthewssnellville.org
X-WR-CALDESC:Events for St. Matthew&#039;s Episcopal Church
BEGIN:VEVENT
DTSTART;TZID="America/New_York":20170305T093000
DTEND;TZID="America/New_York":20170305T093000
DTSTAMP:20260421T052531
CREATED:20170227T034233
LAST-MODIFIED:20170227T034233
UID:7571-1488706200-1488706200@www.stmatthewssnellville.org
SUMMARY:Adult Christian Ed Lenten Program
DESCRIPTION:http://stmatthewssnellville.org/2017/02/lenten-programs-at-st-matthews-begin-sunday-march-5/
URL:https://www.stmatthewssnellville.org/event/adult-christian-ed-lenten-program/2017-03-05/
CATEGORIES:Sunday School
END:VEVENT
END:VCALENDAR