BEGIN:VCALENDAR
VERSION:2.0
PRODID:-//St. Matthew&#039;s Episcopal Church - ECPv4.0.4//NONSGML v1.0//EN
CALSCALE:GREGORIAN
METHOD:PUBLISH
X-WR-CALNAME:St. Matthew&#039;s Episcopal Church
X-ORIGINAL-URL:https://www.stmatthewssnellville.org
X-WR-CALDESC:Events for St. Matthew&#039;s Episcopal Church
BEGIN:VEVENT
DTSTART;VALUE=DATE:20170224
DTEND;VALUE=DATE:20170224
DTSTAMP:20260421T112903
CREATED:20170224
LAST-MODIFIED:20170224
UID:7560-1487894400-1487980799@www.stmatthewssnellville.org
SUMMARY:Ash Wednesday Services
DESCRIPTION:Holy Eucharist and Imposition of Ashes\n\n7:00 a.m.\, 12:15 p.m.\, and 7:00 p.m. in the sanctuary.
URL:https://www.stmatthewssnellville.org/event/ash-wednesday-services/
CATEGORIES:Worship
END:VEVENT
END:VCALENDAR