BEGIN:VCALENDAR
VERSION:2.0
PRODID:-//St. Matthew&#039;s Episcopal Church - ECPv4.0.4//NONSGML v1.0//EN
CALSCALE:GREGORIAN
METHOD:PUBLISH
X-WR-CALNAME:St. Matthew&#039;s Episcopal Church
X-ORIGINAL-URL:https://www.stmatthewssnellville.org
X-WR-CALDESC:Events for St. Matthew&#039;s Episcopal Church
BEGIN:VEVENT
DTSTART;TZID="America/New_York":20180805T080000
DTEND;TZID="America/New_York":20180805T120000
DTSTAMP:20260421T084736
CREATED:20180720T165526
LAST-MODIFIED:20180806T150321
UID:10976-1533456000-1533470400@www.stmatthewssnellville.org
SUMMARY:Family Service With Annual Blessing of the Back Packs
DESCRIPTION:Approximately 45 children had their back packs blessed at both the 8 and 10:30 services Sunday\, August 5\, as they prepared to go back to school . Mother Liz also called the children up for a special children's sermon. Teachers and others working with children also received a blessing.\n\nThis annual event at St. Matthew's marks back to school and the start of Christian Education programs. Sunday\, August 12 is Registration Sunday\, when children and adults will register for Sunday School and Adult Christian Formation classes. Registration is Sunday at 9:30 a.m. in the parish hall.\n\n 
URL:https://www.stmatthewssnellville.org/event/blessing-of-the-back-packs-sunday-august-5/
CATEGORIES:Sunday School,Worship,Youth
ATTACH;FMTTYPE=image/jpeg:https://www.stmatthewssnellville.org/wp-content/uploads/2018/07/Back-Pack-Blessing-2018.jpg
END:VEVENT
END:VCALENDAR