BEGIN:VCALENDAR
VERSION:2.0
PRODID:-//St. Matthew&#039;s Episcopal Church - ECPv4.0.4//NONSGML v1.0//EN
CALSCALE:GREGORIAN
METHOD:PUBLISH
X-WR-CALNAME:St. Matthew&#039;s Episcopal Church
X-ORIGINAL-URL:https://www.stmatthewssnellville.org
X-WR-CALDESC:Events for St. Matthew&#039;s Episcopal Church
BEGIN:VEVENT
DTSTART;VALUE=DATE:20190804
DTEND;VALUE=DATE:20190804
DTSTAMP:20260423T201024
CREATED:20190529
LAST-MODIFIED:20190529
UID:13772-1564876800-1564963199@www.stmatthewssnellville.org
SUMMARY:Blessing of the Backpacks
DESCRIPTION:Children are invited to bring their school backpacks to church to be blessed as they prepare to return to school. Blessing will occur at both services.
URL:https://www.stmatthewssnellville.org/event/blessing-of-the-backpacks-2/
END:VEVENT
END:VCALENDAR