BEGIN:VCALENDAR
VERSION:2.0
PRODID:-//St. Matthew&#039;s Episcopal Church - ECPv4.0.4//NONSGML v1.0//EN
CALSCALE:GREGORIAN
METHOD:PUBLISH
X-WR-CALNAME:St. Matthew&#039;s Episcopal Church
X-ORIGINAL-URL:https://www.stmatthewssnellville.org
X-WR-CALDESC:Events for St. Matthew&#039;s Episcopal Church
BEGIN:VEVENT
DTSTART;TZID="America/New_York":20261130T190000
DTEND;TZID="America/New_York":20261130T210000
DTSTAMP:20260421T192200
CREATED:20150804T163302
LAST-MODIFIED:20150804T163302
UID:23819-1796065200-1796072400@www.stmatthewssnellville.org
SUMMARY:Boy Scout Troop 553 Meeting
DESCRIPTION:
URL:https://www.stmatthewssnellville.org/event/boy-scout-troop-553-meeting/2026-11-30/
END:VEVENT
END:VCALENDAR