BEGIN:VCALENDAR
VERSION:2.0
PRODID:-//St. Matthew&#039;s Episcopal Church - ECPv4.0.4//NONSGML v1.0//EN
CALSCALE:GREGORIAN
METHOD:PUBLISH
X-WR-CALNAME:St. Matthew&#039;s Episcopal Church
X-ORIGINAL-URL:https://www.stmatthewssnellville.org
X-WR-CALDESC:Events for St. Matthew&#039;s Episcopal Church
BEGIN:VEVENT
DTSTART;TZID="America/New_York":20160514T080000
DTEND;TZID="America/New_York":20160514T100000
DTSTAMP:20260422T113148
CREATED:20160504T165928
LAST-MODIFIED:20160504T165928
UID:5662-1463212800-1463220000@www.stmatthewssnellville.org
SUMMARY:Brotherhood of St. Andrew
DESCRIPTION:All men of the parish are invited to this twice-monthly meeting. Enjoy a hearty breakfast\, prayer and study together in a fellowship grounded in Christ. 8:00 - 10:00 a.m. in the parish hall & library.
URL:https://www.stmatthewssnellville.org/event/brotherhood-of-st-andrew-3/2016-05-14/
END:VEVENT
END:VCALENDAR