BEGIN:VCALENDAR
VERSION:2.0
PRODID:-//St. Matthew&#039;s Episcopal Church - ECPv4.0.4//NONSGML v1.0//EN
CALSCALE:GREGORIAN
METHOD:PUBLISH
X-WR-CALNAME:St. Matthew&#039;s Episcopal Church
X-ORIGINAL-URL:https://www.stmatthewssnellville.org
X-WR-CALDESC:Events for St. Matthew&#039;s Episcopal Church
BEGIN:VEVENT
DTSTART;TZID="America/New_York":20160521T100000
DTEND;TZID="America/New_York":20160521T113000
DTSTAMP:20260422T222228
CREATED:20160310T233623
LAST-MODIFIED:20160310T233713
UID:5324-1463824800-1463830200@www.stmatthewssnellville.org
SUMMARY:Cafe Theology
DESCRIPTION:This class meets  March 5\, March 19\, April 2\, April 16\, May 14 and May 21 from 10:00 - 11:30 a.m.\n\nFor more information\, click here.
URL:https://www.stmatthewssnellville.org/event/cafe-theology-3/
END:VEVENT
END:VCALENDAR