BEGIN:VCALENDAR
VERSION:2.0
PRODID:-//St. Matthew&#039;s Episcopal Church - ECPv4.0.4//NONSGML v1.0//EN
CALSCALE:GREGORIAN
METHOD:PUBLISH
X-WR-CALNAME:St. Matthew&#039;s Episcopal Church
X-ORIGINAL-URL:https://www.stmatthewssnellville.org
X-WR-CALDESC:Events for St. Matthew&#039;s Episcopal Church
BEGIN:VEVENT
DTSTART;TZID="America/New_York":20170228T180000
DTEND;TZID="America/New_York":20170228T193000
DTSTAMP:20260421T094529
CREATED:20150804T172653
LAST-MODIFIED:20170227T033509
UID:2904-1488304800-1488310200@www.stmatthewssnellville.org
SUMMARY:Centering Prayer
DESCRIPTION:A 20 minute "sit" beginning at approximately 6:15 p.m. in the sanctuary is followed by a book study or conversation related to the practice of the Prayer. Newcomers are always welcome. For more information\, please contact the church office.\n\nNote: Tuesday\, February 28 is Shrove Tuesday. The centering prayer group will do a 20-minute sit beginning promptly at 6:00 p.m.\, and then attend the Pancake Supper.  Please join us!
URL:https://www.stmatthewssnellville.org/event/centering-prayer-2017-02-28/
CATEGORIES:Worship
END:VEVENT
END:VCALENDAR