BEGIN:VCALENDAR
VERSION:2.0
PRODID:-//St. Matthew&#039;s Episcopal Church - ECPv4.0.4//NONSGML v1.0//EN
CALSCALE:GREGORIAN
METHOD:PUBLISH
X-WR-CALNAME:St. Matthew&#039;s Episcopal Church
X-ORIGINAL-URL:https://www.stmatthewssnellville.org
X-WR-CALDESC:Events for St. Matthew&#039;s Episcopal Church
BEGIN:VEVENT
DTSTART;TZID="America/New_York":20170417T080000
DTEND;TZID="America/New_York":20170417T170000
DTSTAMP:20260419T115409
CREATED:20170315T170414
LAST-MODIFIED:20170315T170725
UID:8494-1492416000-1492448400@www.stmatthewssnellville.org
SUMMARY:Church Office Closed
DESCRIPTION:The church office will be closed Monday and Tuesday\, April 17 and 18.
URL:https://www.stmatthewssnellville.org/event/church-office-closed-3/2017-04-17/
END:VEVENT
END:VCALENDAR