BEGIN:VCALENDAR
VERSION:2.0
PRODID:-//St. Matthew&#039;s Episcopal Church - ECPv4.0.4//NONSGML v1.0//EN
CALSCALE:GREGORIAN
METHOD:PUBLISH
X-WR-CALNAME:St. Matthew&#039;s Episcopal Church
X-ORIGINAL-URL:https://www.stmatthewssnellville.org
X-WR-CALDESC:Events for St. Matthew&#039;s Episcopal Church
BEGIN:VEVENT
DTSTART;TZID="America/New_York":20180331T100000
DTEND;TZID="America/New_York":20180331T130000
DTSTAMP:20260424T224325
CREATED:20180330T133457
LAST-MODIFIED:20180330T134421
UID:10404-1522490400-1522501200@www.stmatthewssnellville.org
SUMMARY:Easter Eggstravaganza
DESCRIPTION:For full information on this event go to:\n\nClick here for details
URL:https://www.stmatthewssnellville.org/event/easter-eggstravaganza-2/
ATTACH;FMTTYPE=image/jpeg:https://www.stmatthewssnellville.org/wp-content/uploads/2018/03/Easter-Eggstravaganza-photo-Easter-Bunny.jpg
END:VEVENT
END:VCALENDAR