BEGIN:VCALENDAR
VERSION:2.0
PRODID:-//St. Matthew&#039;s Episcopal Church - ECPv4.0.4//NONSGML v1.0//EN
CALSCALE:GREGORIAN
METHOD:PUBLISH
X-WR-CALNAME:St. Matthew&#039;s Episcopal Church
X-ORIGINAL-URL:https://www.stmatthewssnellville.org
X-WR-CALDESC:Events for St. Matthew&#039;s Episcopal Church
BEGIN:VEVENT
DTSTART;VALUE=DATE:20160327
DTEND;VALUE=DATE:20160327
DTSTAMP:20260422T035309
CREATED:20160107
LAST-MODIFIED:20160307
UID:4809-1459036800-1459123199@www.stmatthewssnellville.org
SUMMARY:Easter Sunday Services
DESCRIPTION:8:00 a.m.  Holy Eucharist Rite II\n10:30 a.m.   Festive Holy Eucharist Rite II (with incense)\nFlowering of the Cross at both services. Children of all ages are invited to bring flowers to place on the Cross. Flowers will also be available during the service for those who wish to use them for that purpose.\nNo Breakfast\, Sunday School or Christian Education on this day.\n\nNo Youth Group.
URL:https://www.stmatthewssnellville.org/event/easter-sunday-2/
CATEGORIES:Worship
END:VEVENT
END:VCALENDAR