BEGIN:VCALENDAR
VERSION:2.0
PRODID:-//St. Matthew&#039;s Episcopal Church - ECPv4.0.4//NONSGML v1.0//EN
CALSCALE:GREGORIAN
METHOD:PUBLISH
X-WR-CALNAME:St. Matthew&#039;s Episcopal Church
X-ORIGINAL-URL:https://www.stmatthewssnellville.org
X-WR-CALDESC:Events for St. Matthew&#039;s Episcopal Church
BEGIN:VEVENT
DTSTART;TZID="America/New_York":20190420T193000
DTEND;TZID="America/New_York":20190420T213000
DTSTAMP:20260421T165914
CREATED:20190314T141922
LAST-MODIFIED:20190314T141922
UID:13116-1555788600-1555795800@www.stmatthewssnellville.org
SUMMARY:Easter Vigil -- Holy Eucharist with Baptism
DESCRIPTION:Lighting of the New Fire and the Paschal Candle; Holy Eucharist with the sacrament of Baptism.\n\nThe congregation is invited to bring bells to ring at the Gloria to celebrate the Risen Christ.\n\n 
URL:https://www.stmatthewssnellville.org/event/easter-vigil-holy-eucharist-with-baptism/
END:VEVENT
END:VCALENDAR