BEGIN:VCALENDAR
VERSION:2.0
PRODID:-//St. Matthew&#039;s Episcopal Church - ECPv4.0.4//NONSGML v1.0//EN
CALSCALE:GREGORIAN
METHOD:PUBLISH
X-WR-CALNAME:St. Matthew&#039;s Episcopal Church
X-ORIGINAL-URL:https://www.stmatthewssnellville.org
X-WR-CALDESC:Events for St. Matthew&#039;s Episcopal Church
BEGIN:VEVENT
DTSTART;TZID="America/New_York":20160328T183000
DTEND;TZID="America/New_York":20160328T203000
DTSTAMP:20260422T021759
CREATED:20160307T024958
LAST-MODIFIED:20160307T024958
UID:5285-1459189800-1459197000@www.stmatthewssnellville.org
SUMMARY:ECW Game Night
DESCRIPTION:St. Matthew's ECW March Game Night\nCome and join us on\nMonday\, March 28th \nParish Hall at 6:30.\nBring your favorite game.\nPopcorn and sodas will be provided.\n
URL:https://www.stmatthewssnellville.org/event/ecw-game-night/
END:VEVENT
END:VCALENDAR