BEGIN:VCALENDAR
VERSION:2.0
PRODID:-//St. Matthew&#039;s Episcopal Church - ECPv4.0.4//NONSGML v1.0//EN
CALSCALE:GREGORIAN
METHOD:PUBLISH
X-WR-CALNAME:St. Matthew&#039;s Episcopal Church
X-ORIGINAL-URL:https://www.stmatthewssnellville.org
X-WR-CALDESC:Events for St. Matthew&#039;s Episcopal Church
BEGIN:VEVENT
DTSTART;TZID="America/New_York":20191103T183000
DTEND;TZID="America/New_York":20191103T203000
DTSTAMP:20260419T161640
CREATED:20191008T140314
LAST-MODIFIED:20191017T165602
UID:14204-1572805800-1572813000@www.stmatthewssnellville.org
SUMMARY:Evening of Remembrance
DESCRIPTION:6:30 p.m. - 8;30 p.m.\n\nFor more information\, click here.\n\nFor a history of the Evening of Remembrance and information on the various forms of remembrance used in the service\, please click here. Article written by Michael Barringer.
URL:https://www.stmatthewssnellville.org/event/evening-of-remembrance-3/
CATEGORIES:Worship
END:VEVENT
END:VCALENDAR