BEGIN:VCALENDAR
VERSION:2.0
PRODID:-//St. Matthew&#039;s Episcopal Church - ECPv4.0.4//NONSGML v1.0//EN
CALSCALE:GREGORIAN
METHOD:PUBLISH
X-WR-CALNAME:St. Matthew&#039;s Episcopal Church
X-ORIGINAL-URL:https://www.stmatthewssnellville.org
X-WR-CALDESC:Events for St. Matthew&#039;s Episcopal Church
BEGIN:VEVENT
DTSTART;TZID="America/New_York":20170315T180000
DTEND;TZID="America/New_York":20170315T193000
DTSTAMP:20260425T215003
CREATED:20170308T172121
LAST-MODIFIED:20170308T192105
UID:8458-1489600800-1489606200@www.stmatthewssnellville.org
SUMMARY:Fellowship Committee Meeting
DESCRIPTION:All committee meetings are open to everyone. The Fellowship committee oversees all church gatherings\, pot luck dinners\, church social events\, and other events such as Sunday morning breakfasts. If you'd like to help with this\, contact Nancy Drury
URL:https://www.stmatthewssnellville.org/event/fellowship-committee-meeting/
END:VEVENT
END:VCALENDAR