BEGIN:VCALENDAR
VERSION:2.0
PRODID:-//St. Matthew&#039;s Episcopal Church - ECPv4.0.4//NONSGML v1.0//EN
CALSCALE:GREGORIAN
METHOD:PUBLISH
X-WR-CALNAME:St. Matthew&#039;s Episcopal Church
X-ORIGINAL-URL:https://www.stmatthewssnellville.org
X-WR-CALDESC:Events for St. Matthew&#039;s Episcopal Church
BEGIN:VEVENT
DTSTART;TZID="America/New_York":20190419T160000
DTEND;TZID="America/New_York":20190419T190000
DTSTAMP:20260421T114827
CREATED:20190405T160518
LAST-MODIFIED:20190405T160518
UID:13261-1555689600-1555700400@www.stmatthewssnellville.org
SUMMARY:Fish Fry (Brotherhood of St. Andrew)
DESCRIPTION:New this year--Fish fry in the side parking lot around back of the church\, near the picnic tables on the location of the planned new pavilion. 4 - 7 p.m.\n\nFish and hush puppies\, suggested love offering $7/plate. Help the Brotherhood finish the pavilion. Come one\, come all!
URL:https://www.stmatthewssnellville.org/event/fish-fry-brotherhood-of-st-andrew/
END:VEVENT
END:VCALENDAR