BEGIN:VCALENDAR
VERSION:2.0
PRODID:-//St. Matthew&#039;s Episcopal Church - ECPv4.0.4//NONSGML v1.0//EN
CALSCALE:GREGORIAN
METHOD:PUBLISH
X-WR-CALNAME:St. Matthew&#039;s Episcopal Church
X-ORIGINAL-URL:https://www.stmatthewssnellville.org
X-WR-CALDESC:Events for St. Matthew&#039;s Episcopal Church
BEGIN:VEVENT
DTSTART;TZID="America/New_York":20190314T113000
DTEND;TZID="America/New_York":20190314T193000
DTSTAMP:20260420T212112
CREATED:20190314T140210
LAST-MODIFIED:20190314T140240
UID:13113-1552563000-1552591800@www.stmatthewssnellville.org
SUMMARY:Good Friday Services
DESCRIPTION:Stations of the Cross at 11:30 a.m. and 6:45 p.m.\n\nHoly Eucharist 12:00 noon and 7:30 p.m. (Sanctuary choir at 7:30 service)\n\n 
URL:https://www.stmatthewssnellville.org/event/good-friday-services-4/
ATTACH;FMTTYPE=image/jpeg:https://www.stmatthewssnellville.org/wp-content/uploads/2019/03/lent-cross-crown-thorns-627x388.jpg
END:VEVENT
END:VCALENDAR