BEGIN:VCALENDAR
VERSION:2.0
PRODID:-//St. Matthew&#039;s Episcopal Church - ECPv4.0.4//NONSGML v1.0//EN
CALSCALE:GREGORIAN
METHOD:PUBLISH
X-WR-CALNAME:St. Matthew&#039;s Episcopal Church
X-ORIGINAL-URL:https://www.stmatthewssnellville.org
X-WR-CALDESC:Events for St. Matthew&#039;s Episcopal Church
BEGIN:VEVENT
DTSTART;TZID="America/New_York":20190419T113000
DTEND;TZID="America/New_York":20190419T170000
DTSTAMP:20260421T090814
CREATED:20190319T130440
LAST-MODIFIED:20190319T131023
UID:13194-1555673400-1555693200@www.stmatthewssnellville.org
SUMMARY:Good Friday Stations of the Cross (11:30 a.m and 6:45 p.m.)
DESCRIPTION:11:30 a.m. followed by the Good Friday service at 12:00 noon.\n\nStations of the Cross also at 6:45 p.m. followed by the Good Friday service at 7:30 p.m. (with music/Sanctuary choir)
URL:https://www.stmatthewssnellville.org/event/good-friday-stations-of-the-cross/
END:VEVENT
END:VCALENDAR