BEGIN:VCALENDAR
VERSION:2.0
PRODID:-//St. Matthew&#039;s Episcopal Church - ECPv4.0.4//NONSGML v1.0//EN
CALSCALE:GREGORIAN
METHOD:PUBLISH
X-WR-CALNAME:St. Matthew&#039;s Episcopal Church
X-ORIGINAL-URL:https://www.stmatthewssnellville.org
X-WR-CALDESC:Events for St. Matthew&#039;s Episcopal Church
BEGIN:VEVENT
DTSTART;TZID="America/New_York":20181024T190000
DTEND;TZID="America/New_York":20181024T210000
DTSTAMP:20260419T145222
CREATED:20181024T184831
LAST-MODIFIED:20181024T184831
UID:11872-1540407600-1540414800@www.stmatthewssnellville.org
SUMMARY:Guys Night Out -- TRIVIA!
DESCRIPTION:The third Wednesday every month at 7:00 p.m. This is an evening of fun and fellowship for men of the parish. Come play trivia\, and bring a friend! Contact Levi Livermont for more information or to let him know you'll be coming.
URL:https://www.stmatthewssnellville.org/event/guys-night-out-trivia-8/2018-10-24/
END:VEVENT
END:VCALENDAR