BEGIN:VCALENDAR
VERSION:2.0
PRODID:-//St. Matthew&#039;s Episcopal Church - ECPv4.0.4//NONSGML v1.0//EN
CALSCALE:GREGORIAN
METHOD:PUBLISH
X-WR-CALNAME:St. Matthew&#039;s Episcopal Church
X-ORIGINAL-URL:https://www.stmatthewssnellville.org
X-WR-CALDESC:Events for St. Matthew&#039;s Episcopal Church
BEGIN:VEVENT
DTSTART;TZID="America/New_York":20190403T173000
DTEND;TZID="America/New_York":20190403T181500
DTSTAMP:20260421T041547
CREATED:20180801T184205
LAST-MODIFIED:20180801T184655
UID:11188-1554312600-1554315300@www.stmatthewssnellville.org
SUMMARY:NO Hand Bell Choir Practice
DESCRIPTION:Practices each Wednesday at 5:30 p.m. in the choir room. For more information contact Sharon Ferrell or Kyle Osborne
URL:https://www.stmatthewssnellville.org/event/hand-bell-choir-practice-2019-04-03/
END:VEVENT
END:VCALENDAR