BEGIN:VCALENDAR
VERSION:2.0
PRODID:-//St. Matthew&#039;s Episcopal Church - ECPv4.0.4//NONSGML v1.0//EN
CALSCALE:GREGORIAN
METHOD:PUBLISH
X-WR-CALNAME:St. Matthew&#039;s Episcopal Church
X-ORIGINAL-URL:https://www.stmatthewssnellville.org
X-WR-CALDESC:Events for St. Matthew&#039;s Episcopal Church
BEGIN:VEVENT
DTSTART;TZID="America/New_York":20160521T100000
DTEND;TZID="America/New_York":20160521T140000
DTSTAMP:20260422T204941
CREATED:20160219T161340
LAST-MODIFIED:20160219T214923
UID:5177-1463824800-1463839200@www.stmatthewssnellville.org
SUMMARY:Health Fair
DESCRIPTION:On May 21 the Health and Wellness Committee is planning to have a Health Fair for the parish from 10:00 a.m. until 2:00 p.m.\nWe will have health screenings (for high blood pressure\, diabetes\, depression)\, and fitness assessments\, educational sessions\, chair massage\, nutrition materials and more. We will have games\, healthy food\, fun and good fellowship.\n\nIf you are interested in helping with this event\, please contact Flora Cox\, M.D. at DrFDC@aol.com or Susan Jung at susanjung@earthlink.net.\n\n 
URL:https://www.stmatthewssnellville.org/event/health-fair/
END:VEVENT
END:VCALENDAR