BEGIN:VCALENDAR
VERSION:2.0
PRODID:-//St. Matthew&#039;s Episcopal Church - ECPv4.0.4//NONSGML v1.0//EN
CALSCALE:GREGORIAN
METHOD:PUBLISH
X-WR-CALNAME:St. Matthew&#039;s Episcopal Church
X-ORIGINAL-URL:https://www.stmatthewssnellville.org
X-WR-CALDESC:Events for St. Matthew&#039;s Episcopal Church
BEGIN:VEVENT
DTSTART;TZID="America/New_York":20190707T080000
DTEND;TZID="America/New_York":20190707T170000
DTSTAMP:20260423T194627
CREATED:20190512T001618
LAST-MODIFIED:20190512T001618
UID:13526-1562486400-1562518800@www.stmatthewssnellville.org
SUMMARY:Holy Eucharist 9:30 a.m.
DESCRIPTION:Summer Eucharist Schedule. One service only at 9:30 a.m. all Sundays in July.\n\n 
URL:https://www.stmatthewssnellville.org/event/holy-eucharist-930-a-m/2019-07-07/
CATEGORIES:Worship
END:VEVENT
END:VCALENDAR