BEGIN:VCALENDAR
VERSION:2.0
PRODID:-//St. Matthew&#039;s Episcopal Church - ECPv4.0.4//NONSGML v1.0//EN
CALSCALE:GREGORIAN
METHOD:PUBLISH
X-WR-CALNAME:St. Matthew&#039;s Episcopal Church
X-ORIGINAL-URL:https://www.stmatthewssnellville.org
X-WR-CALDESC:Events for St. Matthew&#039;s Episcopal Church
BEGIN:VEVENT
DTSTART;TZID="America/New_York":20180704T100000
DTEND;TZID="America/New_York":20180704T110000
DTSTAMP:20260424T202053
CREATED:20150804T201126
LAST-MODIFIED:20180712T154019
UID:5897-1530698400-1530702000@www.stmatthewssnellville.org
SUMMARY:NO Healing Service Due To Holiday
DESCRIPTION:Wednesdays 10:00 a.m.  Holy Eucharist Rite II
URL:https://www.stmatthewssnellville.org/event/holy-eucharist-healing-service-2018-07-04/
END:VEVENT
END:VCALENDAR