BEGIN:VCALENDAR
VERSION:2.0
PRODID:-//St. Matthew&#039;s Episcopal Church - ECPv4.0.4//NONSGML v1.0//EN
CALSCALE:GREGORIAN
METHOD:PUBLISH
X-WR-CALNAME:St. Matthew&#039;s Episcopal Church
X-ORIGINAL-URL:https://www.stmatthewssnellville.org
X-WR-CALDESC:Events for St. Matthew&#039;s Episcopal Church
BEGIN:VEVENT
DTSTART;TZID="America/New_York":20190306T100000
DTEND;TZID="America/New_York":20190306T110000
DTSTAMP:20260420T193813
CREATED:20150804T201126
LAST-MODIFIED:20190212T175153
UID:7616-1551866400-1551870000@www.stmatthewssnellville.org
SUMMARY:Holy Eucharist -- NO Healing Service Due to Ash Wednesday
DESCRIPTION:Wednesdays 10:00 a.m.  Holy Eucharist Rite II
URL:https://www.stmatthewssnellville.org/event/holy-eucharist-healing-service-2019-03-06/
END:VEVENT
END:VCALENDAR