BEGIN:VCALENDAR
VERSION:2.0
PRODID:-//St. Matthew&#039;s Episcopal Church - ECPv4.0.4//NONSGML v1.0//EN
CALSCALE:GREGORIAN
METHOD:PUBLISH
X-WR-CALNAME:St. Matthew&#039;s Episcopal Church
X-ORIGINAL-URL:https://www.stmatthewssnellville.org
X-WR-CALDESC:Events for St. Matthew&#039;s Episcopal Church
BEGIN:VEVENT
DTSTART;TZID="America/New_York":20180225T010000
DTEND;TZID="America/New_York":20180225T160000
DTSTAMP:20260425T034015
CREATED:20180205T183956
LAST-MODIFIED:20180330T133932
UID:10088-1519520400-1519574400@www.stmatthewssnellville.org
SUMMARY:Hunger Walk
DESCRIPTION:\n\n\n\n\nSt. Matthew's Hunger Walk Team Raises $5\,076 for the Southeast Gwinnett Co-Op\n\nThe rain deterred many runners and walkers from the Hunger Walk/Run on February 25th\, but it didn't stop the 30 registered team members from raising $5\,076\, far exceeding their original $3\,000 goal! Parishioners\, friends\, and family contributed to the campaign throughout January and February and spread the word through emails\, word of mouth\, and social media\, raising the total well above previous years. The funds raised by the team benefit the Co-Op through the Atlanta Community Food Bank\, serving families in Snellville\, Grayson\, and Loganville who need assistance.\n\nI would like to thank each and every one of you for joining\, donating\, and supporting the St. Matt's Hunger Walk team. I am truly amazed at what we can do when we come together for our neighbors in need. I've seen firsthand the work that the Co-Op does\, their resourcefulness\, their faith\, and their commitment to loving like Christ. As part of their mission statement reads "...To the end that our clients will find encouragement\, love\, and hope and that the Kingdom of God will be manifest on Earth."\n\nYou can still contribute! Online donations will still be accepted for a couple of weeks at http://engage.acfb.org/goto/stmatts and of course\, check with the Outreach Committee for other ways you can serve the community throughout the year.\n\nThanks and peace!\n\nJennifer Papadatos\, Outreach\n\n\n\n\n\nRegister or donate now at http://engage.acfb.org/goto/stmatts\nFor more information on St. Matthew's Hunger Walk Team\, contact\n Jennifer Papadatos at jenniday1229@yahoo.com
URL:https://www.stmatthewssnellville.org/event/hunger-walk-4/
LOCATION:715 Hank Aaron Drie\, Atlanta\, GA\, 30315\, United States
GEO:33.7351302;-84.3878961
X-APPLE-STRUCTURED-LOCATION;VALUE=URI;X-ADDRESS=715 Hank Aaron Drie Atlanta GA 30315 United States;X-APPLE-RADIUS=500;X-TITLE=715 Hank Aaron Drie:geo:-84.3878961,33.7351302
ATTACH;FMTTYPE=image/jpeg:https://www.stmatthewssnellville.org/wp-content/uploads/2018/02/28166708_10159921078795063_5861705256350773585_n-1.jpg
END:VEVENT
END:VCALENDAR