BEGIN:VCALENDAR
VERSION:2.0
PRODID:-//St. Matthew&#039;s Episcopal Church - ECPv4.0.4//NONSGML v1.0//EN
CALSCALE:GREGORIAN
METHOD:PUBLISH
X-WR-CALNAME:St. Matthew&#039;s Episcopal Church
X-ORIGINAL-URL:https://www.stmatthewssnellville.org
X-WR-CALDESC:Events for St. Matthew&#039;s Episcopal Church
BEGIN:VEVENT
DTSTART;TZID="America/New_York":20180429T091500
DTEND;TZID="America/New_York":20180429T221500
DTSTAMP:20260425T031217
CREATED:20180418T182741
LAST-MODIFIED:20180418T182741
UID:10487-1524993300-1525040100@www.stmatthewssnellville.org
SUMMARY:Inreach Committee Meeting
DESCRIPTION:9:15 a.m. - 10:15 a.m. in the parish office.
URL:https://www.stmatthewssnellville.org/event/inreach-committee-meeting/
END:VEVENT
END:VCALENDAR