BEGIN:VCALENDAR
VERSION:2.0
PRODID:-//St. Matthew&#039;s Episcopal Church - ECPv4.0.4//NONSGML v1.0//EN
CALSCALE:GREGORIAN
METHOD:PUBLISH
X-WR-CALNAME:St. Matthew&#039;s Episcopal Church
X-ORIGINAL-URL:https://www.stmatthewssnellville.org
X-WR-CALDESC:Events for St. Matthew&#039;s Episcopal Church
BEGIN:VEVENT
DTSTART;TZID="America/New_York":20170308T181500
DTEND;TZID="America/New_York":20170308T190000
DTSTAMP:20260421T081256
CREATED:20170227T034625
LAST-MODIFIED:20170227T034759
UID:7575-1488996900-1488999600@www.stmatthewssnellville.org
SUMMARY:Lenten Soup and Supper
DESCRIPTION:http://stmatthewssnellville.org/2017/02/lenten-programs-at-st-matthews-begin-sunday-march-5/
URL:https://www.stmatthewssnellville.org/event/lenten-soup-supper/2017-03-08/
END:VEVENT
END:VCALENDAR