BEGIN:VCALENDAR
VERSION:2.0
PRODID:-//St. Matthew&#039;s Episcopal Church - ECPv4.0.4//NONSGML v1.0//EN
CALSCALE:GREGORIAN
METHOD:PUBLISH
X-WR-CALNAME:St. Matthew&#039;s Episcopal Church
X-ORIGINAL-URL:https://www.stmatthewssnellville.org
X-WR-CALDESC:Events for St. Matthew&#039;s Episcopal Church
BEGIN:VEVENT
DTSTART;TZID="America/New_York":20160513T120000
DTEND;TZID="America/New_York":20160513T130000
DTSTAMP:20260422T092334
CREATED:20150807T145020
LAST-MODIFIED:20160503T130437
UID:3697-1463140800-1463144400@www.stmatthewssnellville.org
SUMMARY:Lunch Bunch
DESCRIPTION:Lunch Bunch is a gathering of St. Matthew's parishioners\, men and women\, who get together at noon on the second Thursday of each month from September through May\, for a meal\, fellowship\, and good conversation. Each meeting is held at a different local restaurant.  No reservations or prior notice is required--just come!\n\nThis month:\n\n \n\nMetro Cafe & Diner\n\n1905 Rockbridge Rd SW\n\nStone Mountain\, GA 30087\n\nMetro Cafe Diner is located at the intersection of Rockbridge Road and East and West Park Place Boulevards on the north side of US 78 not far from the Wal-Mart.
URL:https://www.stmatthewssnellville.org/event/lunch-bunch-6/2016-05-13/
LOCATION:1905 Rockbridge Rd.\, Stone Mountain\, 30039\, United States
END:VEVENT
END:VCALENDAR