BEGIN:VCALENDAR
VERSION:2.0
PRODID:-//St. Matthew&#039;s Episcopal Church - ECPv4.0.4//NONSGML v1.0//EN
CALSCALE:GREGORIAN
METHOD:PUBLISH
X-WR-CALNAME:St. Matthew&#039;s Episcopal Church
X-ORIGINAL-URL:https://www.stmatthewssnellville.org
X-WR-CALDESC:Events for St. Matthew&#039;s Episcopal Church
BEGIN:VEVENT
DTSTART;TZID="America/New_York":20190418T210000
DTEND;TZID="America/New_York":20190419T120000
DTSTAMP:20260421T072132
CREATED:20190314T134217
LAST-MODIFIED:20190418T175843
UID:13111-1555621200-1555675200@www.stmatthewssnellville.org
SUMMARY:Maundy Thursday Service 7:30 p.m. / Vigil/Watch (ends 12:00 noon Good Friday)
DESCRIPTION:7:30 p.m. Holy Eucharist with hand and foot washing. Stripping of the altar; Maundy Thursday Gethsemane watch 9:00 p.m Thursday through 11:30 a.m. Good Friday.\n\nYou may sign up for the watch beginning March 24 on the board in the church narthex.
URL:https://www.stmatthewssnellville.org/event/maundy-thursday-service-vigil-watch/
END:VEVENT
END:VCALENDAR