BEGIN:VCALENDAR
VERSION:2.0
PRODID:-//St. Matthew&#039;s Episcopal Church - ECPv4.0.4//NONSGML v1.0//EN
CALSCALE:GREGORIAN
METHOD:PUBLISH
X-WR-CALNAME:St. Matthew&#039;s Episcopal Church
X-ORIGINAL-URL:https://www.stmatthewssnellville.org
X-WR-CALDESC:Events for St. Matthew&#039;s Episcopal Church
BEGIN:VEVENT
DTSTART;TZID="America/New_York":20170413T210000
DTEND;TZID="America/New_York":20170414T120000
DTSTAMP:20260425T171805
CREATED:20170315T164802
LAST-MODIFIED:20170315T165030
UID:8489-1492117200-1492171200@www.stmatthewssnellville.org
SUMMARY:Maundy Thursday Watch
DESCRIPTION:In the Coil Chapel. Watch and pray as the disciples did with Jesus the night he was betrayed. The watch begins immediately after the Maundy Thursday Eucharist and concludes with the Stations of the Cross at 11:30 a.m. and Eucharist at 12:00 noon on Friday\, April 14. (Personnel will be present in the church overnight at all times for security purposes).\n\nA sign up sheet for the Watch will be posted in the narthex of the church approximately two weeks prior to the Watch.
URL:https://www.stmatthewssnellville.org/event/maundy-thursday-watch/
END:VEVENT
END:VCALENDAR