BEGIN:VCALENDAR
VERSION:2.0
PRODID:-//St. Matthew&#039;s Episcopal Church - ECPv4.0.4//NONSGML v1.0//EN
CALSCALE:GREGORIAN
METHOD:PUBLISH
X-WR-CALNAME:St. Matthew&#039;s Episcopal Church
X-ORIGINAL-URL:https://www.stmatthewssnellville.org
X-WR-CALDESC:Events for St. Matthew&#039;s Episcopal Church
BEGIN:VEVENT
DTSTART;TZID="America/New_York":20180729T120000
DTEND;TZID="America/New_York":20180729T130000
DTSTAMP:20260419T133322
CREATED:20180712T155156
LAST-MODIFIED:20180712T155156
UID:10939-1532865600-1532869200@www.stmatthewssnellville.org
SUMMARY:Outreach Project--Packing Picnic Supper Bags for SE Gwinnett Co-op
DESCRIPTION:After the service on  7/29 we will prepare sandwiches\, cut and package watermelon\, and package cookies that will be served at the co-op on Monday evening\, 7/30
URL:https://www.stmatthewssnellville.org/event/outreach-project-packing-picnic-supper-bags-for-se-gwinnett-co-op/
END:VEVENT
END:VCALENDAR