BEGIN:VCALENDAR
VERSION:2.0
PRODID:-//St. Matthew&#039;s Episcopal Church - ECPv4.0.4//NONSGML v1.0//EN
CALSCALE:GREGORIAN
METHOD:PUBLISH
X-WR-CALNAME:St. Matthew&#039;s Episcopal Church
X-ORIGINAL-URL:https://www.stmatthewssnellville.org
X-WR-CALDESC:Events for St. Matthew&#039;s Episcopal Church
BEGIN:VEVENT
DTSTART;VALUE=DATE:20200405
DTEND;VALUE=DATE:20200405
DTSTAMP:20260419T161711
CREATED:20200229
LAST-MODIFIED:20200229
UID:16383-1586044800-1586131199@www.stmatthewssnellville.org
SUMMARY:Palm Sunday Service T[mes
DESCRIPTION:Services at both 8:00 a.m. and 10:30 a.m.\n\nA Palm Procession of the congregation will precede each service.\n\nDramatic reading of the Passion Gospel at the 10:30 a.m. service.
URL:https://www.stmatthewssnellville.org/event/palm-sunday-service-tmes/
ATTACH;FMTTYPE=image/jpeg:https://www.stmatthewssnellville.org/wp-content/uploads/2015/04/palms.jpg
END:VEVENT
END:VCALENDAR