BEGIN:VCALENDAR
VERSION:2.0
PRODID:-//St. Matthew&#039;s Episcopal Church - ECPv4.0.4//NONSGML v1.0//EN
CALSCALE:GREGORIAN
METHOD:PUBLISH
X-WR-CALNAME:St. Matthew&#039;s Episcopal Church
X-ORIGINAL-URL:https://www.stmatthewssnellville.org
X-WR-CALDESC:Events for St. Matthew&#039;s Episcopal Church
BEGIN:VEVENT
DTSTART;TZID="America/New_York":20190413T080000
DTEND;TZID="America/New_York":20190413T140000
DTSTAMP:20260421T054003
CREATED:20190410T132834
LAST-MODIFIED:20190410T132951
UID:13275-1555142400-1555164000@www.stmatthewssnellville.org
SUMMARY:Parish Work Day
DESCRIPTION:\nParish Clean Up\, Spruce Up\, Fix Up Day\nJobs Large and Small\n\nSATURDAY\, APRIL 13\n8:00 a.m. - 2:00 p.m.\nLunch will be served.\nPlease bring yard and garden tools\, brooms\, gloves\, rakes\, spades\, etc. (marked with your name)\n\nWE NEED YOU! SEE YOU THERE
URL:https://www.stmatthewssnellville.org/event/parish-work-day-we-need-you/
END:VEVENT
END:VCALENDAR