BEGIN:VCALENDAR
VERSION:2.0
PRODID:-//St. Matthew&#039;s Episcopal Church - ECPv4.0.4//NONSGML v1.0//EN
CALSCALE:GREGORIAN
METHOD:PUBLISH
X-WR-CALNAME:St. Matthew&#039;s Episcopal Church
X-ORIGINAL-URL:https://www.stmatthewssnellville.org
X-WR-CALDESC:Events for St. Matthew&#039;s Episcopal Church
BEGIN:VEVENT
DTSTART;TZID="America/New_York":20180625T093000
DTEND;TZID="America/New_York":20180625T133000
DTSTAMP:20260424T171557
CREATED:20180503T143841
LAST-MODIFIED:20180503T143841
UID:10612-1529919000-1529933400@www.stmatthewssnellville.org
SUMMARY:Preschool -- Star Spangled Camp
DESCRIPTION:Camps will be available for rising 2 year olds through rising 1st graders. (Children who have not turned two years of age\, by the onset of any given camp\, may only attend 2 days.) The Preschool will provide a snack and children will bring a lunch each day.\n\nSuperheroes Camp - June 11-15\n\nStar Spangled Camp - June 25-29\n\nSpace Camp - July 16-20\n\nCost: $100 per session A $25 discount will be given on additional camps. Deposits must be made upon Registration to secure your child's spot.\n\nFor complete information on camps\, go to http://stmatthewspreschool.org
URL:https://www.stmatthewssnellville.org/event/preschool-star-spangled-camp/2018-06-25/
END:VEVENT
END:VCALENDAR