BEGIN:VCALENDAR
VERSION:2.0
PRODID:-//St. Matthew&#039;s Episcopal Church - ECPv4.0.4//NONSGML v1.0//EN
CALSCALE:GREGORIAN
METHOD:PUBLISH
X-WR-CALNAME:St. Matthew&#039;s Episcopal Church
X-ORIGINAL-URL:https://www.stmatthewssnellville.org
X-WR-CALDESC:Events for St. Matthew&#039;s Episcopal Church
BEGIN:VEVENT
DTSTART;TZID="America/New_York":20180618T083000
DTEND;TZID="America/New_York":20180618T170000
DTSTAMP:20260424T195205
CREATED:20180503T142149
LAST-MODIFIED:20180503T142149
UID:10597-1529310600-1529341200@www.stmatthewssnellville.org
SUMMARY:Reading Camp
DESCRIPTION:All camper spots are filled and the application period is passed for this annual Global Mission camp.
URL:https://www.stmatthewssnellville.org/event/reading-camp-4/2018-06-18/
END:VEVENT
END:VCALENDAR