BEGIN:VCALENDAR
VERSION:2.0
PRODID:-//St. Matthew&#039;s Episcopal Church - ECPv4.0.4//NONSGML v1.0//EN
CALSCALE:GREGORIAN
METHOD:PUBLISH
X-WR-CALNAME:St. Matthew&#039;s Episcopal Church
X-ORIGINAL-URL:https://www.stmatthewssnellville.org
X-WR-CALDESC:Events for St. Matthew&#039;s Episcopal Church
BEGIN:VEVENT
DTSTART;TZID="America/New_York":20160417T080000
DTEND;TZID="America/New_York":20160417T130000
DTSTAMP:20260422T034729
CREATED:20160318T162300
LAST-MODIFIED:20160318T174846
UID:5406-1460880000-1460898000@www.stmatthewssnellville.org
SUMMARY:Red Cross Blood Drive
DESCRIPTION:April 17 Sign Up to give the gift of life.\n\nNext dates at St. Matthews:\n\nFuture blood drives:\n\n7.17.16-  8am to 1pm in the bus\n\n9.25.16- 8am to 1pm in the bus
URL:https://www.stmatthewssnellville.org/event/red-cross-blood-drive/
ATTACH;FMTTYPE=image/jpeg:https://www.stmatthewssnellville.org/wp-content/uploads/2015/05/Red-Cross-Blood-Drive.jpg
END:VEVENT
END:VCALENDAR