BEGIN:VCALENDAR
VERSION:2.0
PRODID:-//St. Matthew&#039;s Episcopal Church - ECPv4.0.4//NONSGML v1.0//EN
CALSCALE:GREGORIAN
METHOD:PUBLISH
X-WR-CALNAME:St. Matthew&#039;s Episcopal Church
X-ORIGINAL-URL:https://www.stmatthewssnellville.org
X-WR-CALDESC:Events for St. Matthew&#039;s Episcopal Church
BEGIN:VEVENT
DTSTART;VALUE=DATE:20181230
DTEND;VALUE=DATE:20181230
DTSTAMP:20260419T150551
CREATED:20180220
LAST-MODIFIED:20181126
UID:10228-1546128000-1546214399@www.stmatthewssnellville.org
SUMMARY:Single Combined Service 10:00 a.m.
DESCRIPTION:Single Combined Service due to holidays\n\nBreakfast served at 9:00 a.m.\n\nNO Sunday School and Christian Education this week.\n\n 
URL:https://www.stmatthewssnellville.org/event/regular-sunday-services-2018-12-30/
CATEGORIES:Worship
END:VEVENT
END:VCALENDAR