BEGIN:VCALENDAR
VERSION:2.0
PRODID:-//St. Matthew&#039;s Episcopal Church - ECPv4.0.4//NONSGML v1.0//EN
CALSCALE:GREGORIAN
METHOD:PUBLISH
X-WR-CALNAME:St. Matthew&#039;s Episcopal Church
X-ORIGINAL-URL:https://www.stmatthewssnellville.org
X-WR-CALDESC:Events for St. Matthew&#039;s Episcopal Church
BEGIN:VEVENT
DTSTART;TZID="America/New_York":20190305T180000
DTEND;TZID="America/New_York":20190305T190000
DTSTAMP:20260420T102637
CREATED:20190207T144429
LAST-MODIFIED:20190207T160113
UID:12938-1551808800-1551812400@www.stmatthewssnellville.org
SUMMARY:Shrove Tuesday Pancake Supper
DESCRIPTION:6:00 - 7:00 p.m. in the parish hall.\n\nBefore Lent begins\, come enjoy tasty food   (all-you-can-eat pancakes and breakfast food) and enthusiastic service as the youth of our parish wait on you.\n\nA love offering will be taken and the proceeds will go to help replenish the needs of the youth space!\n\nYouth\, please arrive at 5:30 to help set-up!”
URL:https://www.stmatthewssnellville.org/event/shrove-tuesday-pancake-supper-4/
CATEGORIES:Youth
END:VEVENT
END:VCALENDAR