BEGIN:VCALENDAR
VERSION:2.0
PRODID:-//St. Matthew&#039;s Episcopal Church - ECPv4.0.4//NONSGML v1.0//EN
CALSCALE:GREGORIAN
METHOD:PUBLISH
X-WR-CALNAME:St. Matthew&#039;s Episcopal Church
X-ORIGINAL-URL:https://www.stmatthewssnellville.org
X-WR-CALDESC:Events for St. Matthew&#039;s Episcopal Church
BEGIN:VEVENT
DTSTART;TZID="America/New_York":20190308T190000
DTEND;TZID="America/New_York":20190308T200000
DTSTAMP:20260420T161716
CREATED:20190314T132244
LAST-MODIFIED:20190314T132244
UID:13102-1552071600-1552075200@www.stmatthewssnellville.org
SUMMARY:Stations of the Cross
DESCRIPTION:Each Friday during Lent. Stations of the Cross at 7:00 p.m. The church will be open beginning at 6:30 p.m. for quiet meditation and prayer.\n\nFriday\, March 29 — Quiet Reflection 6:30 - 7:00 p.m. followed by Stations of the Cross with Musical Meditations at 7:00 p.m.\, featuring the works of Cesar Franck and freely arranged by Gerard Carter. Cesar Franck (1822-1890) was organist at the Basilica of Saint Clothilde in Paris and a professor at the Paris Conservatory. Franck's organ works are known for melodic inspiration\, rich harmonies and deep spirituality.
URL:https://www.stmatthewssnellville.org/event/stations-of-the-cross/2019-03-08/
CATEGORIES:Worship
END:VEVENT
END:VCALENDAR