BEGIN:VCALENDAR
VERSION:2.0
PRODID:-//St. Matthew&#039;s Episcopal Church - ECPv4.0.4//NONSGML v1.0//EN
CALSCALE:GREGORIAN
METHOD:PUBLISH
X-WR-CALNAME:St. Matthew&#039;s Episcopal Church
X-ORIGINAL-URL:https://www.stmatthewssnellville.org
X-WR-CALDESC:Events for St. Matthew&#039;s Episcopal Church
BEGIN:VEVENT
DTSTART;TZID="America/New_York":20141130T093000
DTEND;TZID="America/New_York":20141130T093000
DTSTAMP:20260419T170012
CREATED:20141111T220925
LAST-MODIFIED:20141111T220925
UID:774-1417339800-1417339800@www.stmatthewssnellville.org
SUMMARY:No Sunday School (Thanksgiving Weekend)
DESCRIPTION:
URL:https://www.stmatthewssnellville.org/event/sunday-school-thanksgiving-weekend/
END:VEVENT
END:VCALENDAR