BEGIN:VCALENDAR
VERSION:2.0
PRODID:-//St. Matthew&#039;s Episcopal Church - ECPv4.0.4//NONSGML v1.0//EN
CALSCALE:GREGORIAN
METHOD:PUBLISH
X-WR-CALNAME:St. Matthew&#039;s Episcopal Church
X-ORIGINAL-URL:https://www.stmatthewssnellville.org
X-WR-CALDESC:Events for St. Matthew&#039;s Episcopal Church
BEGIN:VEVENT
DTSTART;VALUE=DATE:20161124
DTEND;VALUE=DATE:20161124
DTSTAMP:20260419T144451
CREATED:20161115
LAST-MODIFIED:20161115
UID:6910-1479945600-1480031999@www.stmatthewssnellville.org
SUMMARY:Thanksgiving Day
DESCRIPTION:Office Closed Thursday and Friday\, October 24 and 25.\n\nCollect for Thanksgiving Day:\n\nAlmighty and gracious Father\, we give you thanks for the fruits of the earth in their season and for the labors of those who harvest them. Make us\, we pray\, faithful stewards of your great bounty\, for the provision of our necessities and the relief of all who are in need\, to the glory of your Name; through Jesus Christ our Lord\, who lives and reigns with you and the Holy Spirit\, one God\, now and for ever. Amen.\n\nBCP\, p. 246\n\n 
URL:https://www.stmatthewssnellville.org/event/thanksgiving-day/
END:VEVENT
END:VCALENDAR