BEGIN:VCALENDAR
VERSION:2.0
PRODID:-//St. Matthew&#039;s Episcopal Church - ECPv4.0.4//NONSGML v1.0//EN
CALSCALE:GREGORIAN
METHOD:PUBLISH
X-WR-CALNAME:St. Matthew&#039;s Episcopal Church
X-ORIGINAL-URL:https://www.stmatthewssnellville.org
X-WR-CALDESC:Events for St. Matthew&#039;s Episcopal Church
BEGIN:VEVENT
DTSTART;TZID="America/New_York":20150802T080000
DTEND;TZID="America/New_York":20150802T120000
DTSTAMP:20260421T163920
CREATED:20150523T025042
LAST-MODIFIED:20150523T025042
UID:1963-1438502400-1438516800@www.stmatthewssnellville.org
SUMMARY:Two Services Resume Today
DESCRIPTION:Two Sunday services resume today for the 2015-2016 season.  8:00 a.m. and 10:30.
URL:https://www.stmatthewssnellville.org/event/two-services-resume-today/
END:VEVENT
END:VCALENDAR