BEGIN:VCALENDAR
VERSION:2.0
PRODID:-//St. Matthew&#039;s Episcopal Church - ECPv4.0.4//NONSGML v1.0//EN
CALSCALE:GREGORIAN
METHOD:PUBLISH
X-WR-CALNAME:St. Matthew&#039;s Episcopal Church
X-ORIGINAL-URL:https://www.stmatthewssnellville.org
X-WR-CALDESC:Events for St. Matthew&#039;s Episcopal Church
BEGIN:VEVENT
DTSTART;VALUE=DATE:20160711
DTEND;VALUE=DATE:20160715
DTSTAMP:20260419T213300
CREATED:20160107
LAST-MODIFIED:20160107
UID:4813-1468195200-1468627199@www.stmatthewssnellville.org
SUMMARY:Vacation Bible School
DESCRIPTION:Ages preschool through 5th grade\, every morning M-F. Watch for more information on this fun week. Registration will begin in the Spring.
URL:https://www.stmatthewssnellville.org/event/vacation-bible-school-2/
END:VEVENT
END:VCALENDAR