BEGIN:VCALENDAR
VERSION:2.0
PRODID:-//St. Matthew&#039;s Episcopal Church - ECPv4.0.4//NONSGML v1.0//EN
CALSCALE:GREGORIAN
METHOD:PUBLISH
X-WR-CALNAME:St. Matthew&#039;s Episcopal Church
X-ORIGINAL-URL:https://www.stmatthewssnellville.org
X-WR-CALDESC:Events for St. Matthew&#039;s Episcopal Church
BEGIN:VEVENT
DTSTART;TZID="America/New_York":20180710T090000
DTEND;TZID="America/New_York":20180710T123000
DTSTAMP:20260425T024241
CREATED:20180503T140855
LAST-MODIFIED:20180508T194902
UID:10592-1531213200-1531225800@www.stmatthewssnellville.org
SUMMARY:Vacation Bible School & Special Needs VBS-- Rolling River Rampage
DESCRIPTION:\nJuly 9-13\, 2018\n9:00 a.m.-12:30 p.m.\nCost: Before June 15 -- $20 per child \nAfter June 15 -- $25 per child\n(payable on first day of camp)\nCamper Registration is OPEN! Click here to register your child.\n School Level: Pre-K through rising 5th Grade (4-11 yrs. old)\nVolunteers are needed! To apply\, click here to help!\nInformation on Special Needs VBS (Tuesday & Thursday\, modified hours) coming soon.\n\nSPECIAL NEEDS VBS:\nRising Pre-K through Rising 5th Grade (ages 4-10)\nTwo days - Tuesday & Thursday\, July 10 & 12\, 2018  \n9:30 a.m. - 12:00 noon\nCOST:$10/child before June 15; $15/child after June 15\nTo register a special  needs camper\, click here.\nFor the third  year in a row\, we are pleased to announce a Special Needs Vacation Bible School\, for part of the week during VBS.  It will happen concurrently with the VBS described above\, but in a different space and with an abbreviated time and modified schedule. If you have experience with children on the Autism Spectrum or with physical handicaps and would like to help\, please contact Abby Whatley at mailto:abbyd@uga.edu.
URL:https://www.stmatthewssnellville.org/event/vacation-bible-school-rolling-river-rampage-2018-07-10/
END:VEVENT
END:VCALENDAR