BEGIN:VCALENDAR
VERSION:2.0
PRODID:-//St. Matthew&#039;s Episcopal Church - ECPv4.0.4//NONSGML v1.0//EN
CALSCALE:GREGORIAN
METHOD:PUBLISH
X-WR-CALNAME:St. Matthew&#039;s Episcopal Church
X-ORIGINAL-URL:https://www.stmatthewssnellville.org
X-WR-CALDESC:Events for St. Matthew&#039;s Episcopal Church
BEGIN:VEVENT
DTSTART;TZID="America/New_York":20180708T110000
DTEND;TZID="America/New_York":20180708T140000
DTSTAMP:20260424T231629
CREATED:20180702T142414
LAST-MODIFIED:20180702T142414
UID:10878-1531047600-1531058400@www.stmatthewssnellville.org
SUMMARY:VBS Set Up -- Parish Invited
DESCRIPTION:All are welcome to help set up for Vacation Bible School today immediately after the 9:30 a.m. service. The more the merrier\, and many hands make light work. Thank you to all who have volunteered to be a part of VBS this coming week. We could not do it without you!!
URL:https://www.stmatthewssnellville.org/event/vbs-set-up-parish-invited/
CATEGORIES:Youth
END:VEVENT
END:VCALENDAR