BEGIN:VCALENDAR
VERSION:2.0
PRODID:-//St. Matthew&#039;s Episcopal Church - ECPv4.0.4//NONSGML v1.0//EN
CALSCALE:GREGORIAN
METHOD:PUBLISH
X-WR-CALNAME:St. Matthew&#039;s Episcopal Church
X-ORIGINAL-URL:https://www.stmatthewssnellville.org
X-WR-CALDESC:Events for St. Matthew&#039;s Episcopal Church
BEGIN:VEVENT
DTSTART;TZID="America/New_York":20160914T110000
DTEND;TZID="America/New_York":20160914T120000
DTSTAMP:20260419T145146
CREATED:20160913T180336
LAST-MODIFIED:20170308T155340
UID:6338-1473850800-1473854400@www.stmatthewssnellville.org
SUMMARY:Wednesday With the Word (WWW) Bible Study
DESCRIPTION:11:00 a.m. immediately following the Wednesday 10:00 Healing Service. All are welcome!
URL:https://www.stmatthewssnellville.org/event/wednesday-with-the-word-www/2016-09-14/
END:VEVENT
END:VCALENDAR