BEGIN:VCALENDAR
VERSION:2.0
PRODID:-//St. Matthew&#039;s Episcopal Church - ECPv4.0.4//NONSGML v1.0//EN
CALSCALE:GREGORIAN
METHOD:PUBLISH
X-WR-CALNAME:St. Matthew&#039;s Episcopal Church
X-ORIGINAL-URL:https://www.stmatthewssnellville.org
X-WR-CALDESC:Events for St. Matthew&#039;s Episcopal Church
BEGIN:VEVENT
DTSTART;TZID="America/New_York":20190203T180000
DTEND;TZID="America/New_York":20190203T200000
DTSTAMP:20260420T030620
CREATED:20190202T001222
LAST-MODIFIED:20190202T001222
UID:12911-1549216800-1549224000@www.stmatthewssnellville.org
SUMMARY:Youth Super Bowl Party
DESCRIPTION:6 p.m.\n\nBring an appetizer to share\, & bring a friend!\n\nDrinks provided.
URL:https://www.stmatthewssnellville.org/event/youth-super-bowl-party/
CATEGORIES:Youth
END:VEVENT
END:VCALENDAR