BEGIN:VCALENDAR
VERSION:2.0
PRODID:-//St. Matthew&#039;s Episcopal Church - ECPv4.0.4//NONSGML v1.0//EN
CALSCALE:GREGORIAN
METHOD:PUBLISH
X-WR-CALNAME:St. Matthew&#039;s Episcopal Church
X-ORIGINAL-URL:https://www.stmatthewssnellville.org
X-WR-CALDESC:Events for St. Matthew&#039;s Episcopal Church
BEGIN:VEVENT
DTSTART;VALUE=DATE:20200412
DTEND;VALUE=DATE:20200412
DTSTAMP:20260421T121605
CREATED:20200225
LAST-MODIFIED:20200225
UID:16297-1586649600-1586735999@www.stmatthewssnellville.org
SUMMARY:EASTER SUNDAY
DESCRIPTION:Services at 8 and 10:30 a.m. with incense.\n\nBaptisms at the 10:30 a.m. service.\n\nFlowering of the Cross at both services.\n\nAll are welcome and invited to come share the joy of the Resurrection of Christ Jesus!\n\nNo Youth group on this day.
URL:https://www.stmatthewssnellville.org/event/easter-sunday-4/
END:VEVENT
END:VCALENDAR